BEGIN:VCALENDAR
VERSION:2.0
PRODID:-//InfoFeiras - Eventos, Hotelaria e Dicas Culturais - ECPv6.0.11//NONSGML v1.0//EN
CALSCALE:GREGORIAN
METHOD:PUBLISH
X-WR-CALNAME:InfoFeiras - Eventos, Hotelaria e Dicas Culturais
X-ORIGINAL-URL:https://infofeiras.com.br
X-WR-CALDESC:Eventos para InfoFeiras - Eventos, Hotelaria e Dicas Culturais
REFRESH-INTERVAL;VALUE=DURATION:PT1H
X-Robots-Tag:noindex
X-PUBLISHED-TTL:PT1H
BEGIN:VTIMEZONE
TZID:America/Sao_Paulo
BEGIN:STANDARD
TZOFFSETFROM:-0300
TZOFFSETTO:-0300
TZNAME:-03
DTSTART:20260101T000000
END:STANDARD
END:VTIMEZONE
BEGIN:VEVENT
DTSTART;TZID=America/Sao_Paulo:20260804T000000
DTEND;TZID=America/Sao_Paulo:20260806T000000
DTSTAMP:20260424T043802
CREATED:20250913T221445Z
LAST-MODIFIED:20250913T221445Z
UID:4858-1785801600-1785974400@infofeiras.com.br
SUMMARY:Suavis
DESCRIPTION:
URL:https://infofeiras.com.br/calendario-de-feiras/suavis/
LOCATION:Anhembi\, Avenida Olavo Fontoura\, 1209\, Santana\, São Paulo\, Brasil
CATEGORIES:Avicultura
END:VEVENT
BEGIN:VEVENT
DTSTART;TZID=America/Sao_Paulo:20260811T000000
DTEND;TZID=America/Sao_Paulo:20260814T000000
DTSTAMP:20260424T043802
CREATED:20250820T162812Z
LAST-MODIFIED:20250913T221447Z
UID:4675-1786406400-1786665600@infofeiras.com.br
SUMMARY:Expolazer
DESCRIPTION:
URL:https://infofeiras.com.br/calendario-de-feiras/expolazer/
LOCATION:Anhembi\, Avenida Olavo Fontoura\, 1209\, Santana\, São Paulo\, Brasil
CATEGORIES:piscinas,Spas
END:VEVENT
BEGIN:VEVENT
DTSTART;TZID=America/Sao_Paulo:20260812T000000
DTEND;TZID=America/Sao_Paulo:20260815T000000
DTSTAMP:20260424T043802
CREATED:20250913T221447Z
LAST-MODIFIED:20250913T221447Z
UID:4859-1786492800-1786752000@infofeiras.com.br
SUMMARY:Ab casa
DESCRIPTION:
URL:https://infofeiras.com.br/calendario-de-feiras/ab-casa-2/
LOCATION:Expo Center Norte\, Rua José Bernardo Pinto\, 333 - Vila Guilherme\, São Paulo\, SP\, 02055-000\, Brasil
CATEGORIES:Decoração
END:VEVENT
END:VCALENDAR