BEGIN:VCALENDAR
VERSION:2.0
PRODID:-//InfoFeiras - Eventos, Hotelaria e Dicas Culturais - ECPv6.0.11//NONSGML v1.0//EN
CALSCALE:GREGORIAN
METHOD:PUBLISH
X-ORIGINAL-URL:https://infofeiras.com.br
X-WR-CALDESC:Eventos para InfoFeiras - Eventos, Hotelaria e Dicas Culturais
REFRESH-INTERVAL;VALUE=DURATION:PT1H
X-Robots-Tag:noindex
X-PUBLISHED-TTL:PT1H
BEGIN:VTIMEZONE
TZID:America/Sao_Paulo
BEGIN:STANDARD
TZOFFSETFROM:-0300
TZOFFSETTO:-0300
TZNAME:-03
DTSTART:20260101T000000
END:STANDARD
END:VTIMEZONE
BEGIN:VEVENT
DTSTART;TZID=America/Sao_Paulo:20260601T000000
DTEND;TZID=America/Sao_Paulo:20260603T000000
DTSTAMP:20260424T144606
CREATED:20250913T220558Z
LAST-MODIFIED:20250913T220954Z
UID:4842-1780272000-1780444800@infofeiras.com.br
SUMMARY:ExpoSec
DESCRIPTION:
URL:https://infofeiras.com.br/calendario-de-feiras/exposec-6/
LOCATION:SP
CATEGORIES:Sistemas de segurança
END:VEVENT
BEGIN:VEVENT
DTSTART;TZID=America/Sao_Paulo:20260601T000000
DTEND;TZID=America/Sao_Paulo:20260603T000000
DTSTAMP:20260424T144606
CREATED:20250913T220954Z
LAST-MODIFIED:20250913T220954Z
UID:4847-1780272000-1780444800@infofeiras.com.br
SUMMARY:FCE Cosmetique
DESCRIPTION:
URL:https://infofeiras.com.br/calendario-de-feiras/fce-cosmetique/
LOCATION:SP
CATEGORIES:Cosméticos
END:VEVENT
BEGIN:VEVENT
DTSTART;TZID=America/Sao_Paulo:20260610T000000
DTEND;TZID=America/Sao_Paulo:20260613T000000
DTSTAMP:20260424T144606
CREATED:20250913T221044Z
LAST-MODIFIED:20250913T221044Z
UID:4848-1781049600-1781308800@infofeiras.com.br
SUMMARY:Bio Brazil Fair
DESCRIPTION:
URL:https://infofeiras.com.br/calendario-de-feiras/bio-brazil-fair-3/
LOCATION:Anhembi\, Avenida Olavo Fontoura\, 1209\, Santana\, São Paulo\, Brasil
CATEGORIES:Cosméticos
END:VEVENT
BEGIN:VEVENT
DTSTART;TZID=America/Sao_Paulo:20260616T000000
DTEND;TZID=America/Sao_Paulo:20260619T000000
DTSTAMP:20260424T144607
CREATED:20250913T221045Z
LAST-MODIFIED:20250913T221045Z
UID:4850-1781568000-1781827200@infofeiras.com.br
SUMMARY:Ecos
DESCRIPTION:
URL:https://infofeiras.com.br/calendario-de-feiras/ecos-2/
LOCATION:Anhembi\, Avenida Olavo Fontoura\, 1209\, Santana\, São Paulo\, Brasil
CATEGORIES:Construção
END:VEVENT
BEGIN:VEVENT
DTSTART;TZID=America/Sao_Paulo:20260617T000000
DTEND;TZID=America/Sao_Paulo:20260620T000000
DTSTAMP:20260424T144607
CREATED:20250913T221046Z
LAST-MODIFIED:20250913T221046Z
UID:4851-1781654400-1781913600@infofeiras.com.br
SUMMARY:AMWC - Brazil
DESCRIPTION:
URL:https://infofeiras.com.br/calendario-de-feiras/amwc-brazil-3/
LOCATION:SP
CATEGORIES:Instrumentos cirúrgicos
END:VEVENT
BEGIN:VEVENT
DTSTART;TZID=America/Sao_Paulo:20260621T000000
DTEND;TZID=America/Sao_Paulo:20260624T000000
DTSTAMP:20260424T144607
CREATED:20250913T221046Z
LAST-MODIFIED:20250913T221046Z
UID:4852-1782000000-1782259200@infofeiras.com.br
SUMMARY:Fenaf
DESCRIPTION:
URL:https://infofeiras.com.br/calendario-de-feiras/fenaf-3/
LOCATION:SP
CATEGORIES:Fundição - Industriais
END:VEVENT
BEGIN:VEVENT
DTSTART;TZID=America/Sao_Paulo:20260622T000000
DTEND;TZID=America/Sao_Paulo:20260625T000000
DTSTAMP:20260424T144607
CREATED:20250913T221245Z
LAST-MODIFIED:20250913T221245Z
UID:4853-1782086400-1782345600@infofeiras.com.br
SUMMARY:Eletrolar show
DESCRIPTION:
URL:https://infofeiras.com.br/calendario-de-feiras/eletrolar-show-2/
LOCATION:Anhembi\, Avenida Olavo Fontoura\, 1209\, Santana\, São Paulo\, Brasil
CATEGORIES:Artigos Eletrônicos
END:VEVENT
BEGIN:VEVENT
DTSTART;TZID=America/Sao_Paulo:20260623T000000
DTEND;TZID=America/Sao_Paulo:20260625T000000
DTSTAMP:20260424T144607
CREATED:20250913T221246Z
LAST-MODIFIED:20250913T221246Z
UID:4854-1782172800-1782345600@infofeiras.com.br
SUMMARY:Expobor 2026
DESCRIPTION:
URL:https://infofeiras.com.br/calendario-de-feiras/expobor-2026/
LOCATION:Expo Center Norte\, Rua José Bernardo Pinto\, 333 - Vila Guilherme\, São Paulo\, SP\, 02055-000\, Brasil
CATEGORIES:Borracha,plástico
END:VEVENT
BEGIN:VEVENT
DTSTART;TZID=America/Sao_Paulo:20260624T000000
DTEND;TZID=America/Sao_Paulo:20260627T000000
DTSTAMP:20260424T144607
CREATED:20250913T221045Z
LAST-MODIFIED:20250913T221045Z
UID:4849-1782259200-1782518400@infofeiras.com.br
SUMMARY:Fispal
DESCRIPTION:
URL:https://infofeiras.com.br/calendario-de-feiras/fispal-2/
LOCATION:SP
CATEGORIES:Embalagens
END:VEVENT
BEGIN:VEVENT
DTSTART;TZID=America/Sao_Paulo:20260624T000000
DTEND;TZID=America/Sao_Paulo:20260627T000000
DTSTAMP:20260424T144607
CREATED:20250913T221246Z
LAST-MODIFIED:20250913T221246Z
UID:4855-1782259200-1782518400@infofeiras.com.br
SUMMARY:ABF Franchising
DESCRIPTION:
URL:https://infofeiras.com.br/calendario-de-feiras/abf-franchising-2/
LOCATION:SP
CATEGORIES:Empreendedorismo
END:VEVENT
BEGIN:VEVENT
DTSTART;TZID=America/Sao_Paulo:20260625T000000
DTEND;TZID=America/Sao_Paulo:20260626T000000
DTSTAMP:20260424T144607
CREATED:20250913T221247Z
LAST-MODIFIED:20250913T221247Z
UID:4856-1782345600-1782432000@infofeiras.com.br
SUMMARY:Pnewshow
DESCRIPTION:
URL:https://infofeiras.com.br/calendario-de-feiras/pnewshow/
LOCATION:Expo Center Norte\, Rua José Bernardo Pinto\, 333 - Vila Guilherme\, São Paulo\, SP\, 02055-000\, Brasil
CATEGORIES:Automóvel,veículos
END:VEVENT
END:VCALENDAR