BEGIN:VCALENDAR
VERSION:2.0
PRODID:-//InfoFeiras - Eventos, Hotelaria e Dicas Culturais - ECPv6.0.11//NONSGML v1.0//EN
CALSCALE:GREGORIAN
METHOD:PUBLISH
X-ORIGINAL-URL:https://infofeiras.com.br
X-WR-CALDESC:Eventos para InfoFeiras - Eventos, Hotelaria e Dicas Culturais
REFRESH-INTERVAL;VALUE=DURATION:PT1H
X-Robots-Tag:noindex
X-PUBLISHED-TTL:PT1H
BEGIN:VTIMEZONE
TZID:America/Sao_Paulo
BEGIN:STANDARD
TZOFFSETFROM:-0300
TZOFFSETTO:-0300
TZNAME:-03
DTSTART:20260101T000000
END:STANDARD
END:VTIMEZONE
BEGIN:VEVENT
DTSTART;TZID=America/Sao_Paulo:20260512T000000
DTEND;TZID=America/Sao_Paulo:20260514T000000
DTSTAMP:20260424T073026
CREATED:20250913T220540Z
LAST-MODIFIED:20251020T114455Z
UID:4837-1778544000-1778716800@infofeiras.com.br
SUMMARY:Fenagra
DESCRIPTION:
URL:https://infofeiras.com.br/calendario-de-feiras/fenagra-2/
LOCATION:Anhembi\, Avenida Olavo Fontoura\, 1209\, Santana\, São Paulo\, Brasil
CATEGORIES:Aditivos,Alimentos orgânicos
END:VEVENT
END:VCALENDAR