BEGIN:VCALENDAR
VERSION:2.0
PRODID:-//InfoFeiras - Eventos, Hotelaria e Dicas Culturais - ECPv6.0.11//NONSGML v1.0//EN
CALSCALE:GREGORIAN
METHOD:PUBLISH
X-WR-CALNAME:InfoFeiras - Eventos, Hotelaria e Dicas Culturais
X-ORIGINAL-URL:https://infofeiras.com.br
X-WR-CALDESC:Eventos para InfoFeiras - Eventos, Hotelaria e Dicas Culturais
REFRESH-INTERVAL;VALUE=DURATION:PT1H
X-Robots-Tag:noindex
X-PUBLISHED-TTL:PT1H
BEGIN:VTIMEZONE
TZID:America/Sao_Paulo
BEGIN:STANDARD
TZOFFSETFROM:-0300
TZOFFSETTO:-0300
TZNAME:-03
DTSTART:20260101T000000
END:STANDARD
END:VTIMEZONE
BEGIN:VEVENT
DTSTART;TZID=America/Sao_Paulo:20260309T000000
DTEND;TZID=America/Sao_Paulo:20260313T000000
DTSTAMP:20260424T051349
CREATED:20250913T215512Z
LAST-MODIFIED:20250913T215512Z
UID:4818-1773014400-1773360000@infofeiras.com.br
SUMMARY:Expo Revestir
DESCRIPTION:
URL:https://infofeiras.com.br/calendario-de-feiras/expo-revestir-3/
LOCATION:São Paulo
CATEGORIES:Pisos e Revestimentos
END:VEVENT
BEGIN:VEVENT
DTSTART;TZID=America/Sao_Paulo:20260312T000000
DTEND;TZID=America/Sao_Paulo:20260314T000000
DTSTAMP:20260424T051349
CREATED:20250820T114506Z
LAST-MODIFIED:20250913T215513Z
UID:4602-1773273600-1773446400@infofeiras.com.br
SUMMARY:Pesca e Companhia Trade Show
DESCRIPTION:
URL:https://infofeiras.com.br/calendario-de-feiras/pesca-e-companhia-trade-show/
LOCATION:Anhembi\, Avenida Olavo Fontoura\, 1209\, Santana\, São Paulo\, Brasil
CATEGORIES:Pesca
END:VEVENT
END:VCALENDAR